BEGIN:VCALENDAR
VERSION:2.0
PRODID:-//HIstorical Society of Woodstock - ECPv6.15.20//NONSGML v1.0//EN
CALSCALE:GREGORIAN
METHOD:PUBLISH
X-ORIGINAL-URL:https://historicalsocietyofwoodstock.org
X-WR-CALDESC:Events for HIstorical Society of Woodstock
REFRESH-INTERVAL;VALUE=DURATION:PT1H
X-Robots-Tag:noindex
X-PUBLISHED-TTL:PT1H
BEGIN:VTIMEZONE
TZID:America/New_York
BEGIN:DAYLIGHT
TZOFFSETFROM:-0500
TZOFFSETTO:-0400
TZNAME:EDT
DTSTART:20230312T070000
END:DAYLIGHT
BEGIN:STANDARD
TZOFFSETFROM:-0400
TZOFFSETTO:-0500
TZNAME:EST
DTSTART:20231105T060000
END:STANDARD
BEGIN:DAYLIGHT
TZOFFSETFROM:-0500
TZOFFSETTO:-0400
TZNAME:EDT
DTSTART:20240310T070000
END:DAYLIGHT
BEGIN:STANDARD
TZOFFSETFROM:-0400
TZOFFSETTO:-0500
TZNAME:EST
DTSTART:20241103T060000
END:STANDARD
BEGIN:DAYLIGHT
TZOFFSETFROM:-0500
TZOFFSETTO:-0400
TZNAME:EDT
DTSTART:20250309T070000
END:DAYLIGHT
BEGIN:STANDARD
TZOFFSETFROM:-0400
TZOFFSETTO:-0500
TZNAME:EST
DTSTART:20251102T060000
END:STANDARD
END:VTIMEZONE
BEGIN:VEVENT
DTSTART;VALUE=DATE:20240824
DTEND;VALUE=DATE:20241007
DTSTAMP:20260420T040012
CREATED:20240306T193521Z
LAST-MODIFIED:20241019T003356Z
UID:2011-1724457600-1728259199@historicalsocietyofwoodstock.org
SUMMARY:Exhibit: Woodstock Village: The Evolution
DESCRIPTION:A photo exploration of how the village of Woodstock  transformed from a small rural town to a  bustling creative community. The exhibit illustrates how buildings and businesses changed over the years. \nThe exhibit contains  photographs  from the  late 1800s to present\, from the Historical Society of Woodstock and private collections. Current  photos of Mill Hill Road\, Tinker Street and Rock City Road were taken by Henry Neimark and Fern Malkine-Falvey. Maps\, and paintings  by \nWoodstock artists\, John Pike\, Wilna Hervey\, Agnes Bierhals\, Jean White and others are presented to illustrate changes over time. \nSome buildings remain relatively unchanged\, others are gone\, and some transformed.   Woodstock has changed and evolved dramatically\, but the  business district has been the center of commercial\, social and cultural life in the village for over 200 years. \nIf buildings could talk\, what tales would they tell? \nSaturdays and Sundays\, 1 -5 pm \nHSW Eames Museum20 Comeau DriveWoodstock\, NY 12498 \nEvents\nSaturday\, August 24\, 4 PM. A Brief History of Woodstock: a talk by Richard Heppner\, Woodstock Town Historian. – see more info \nSaturday\, August 24\, 2 to 4 PM. History Harvest.  Bring a photo of a Woodstock village building or event.  It will be scanned on site  to be added to the HSW Woodstock Town Center Collection. \nSaturday\, September 21\, 4 PM\, Woodstock Architecture: a talk by Barry Price\, architect. \nSaturday\, September 21\,  2-4 PM. History Harvest. Bring a photo of a Woodstock village building or event.  It will be scanned on site to be added to the HSW Woodstock Town Center Collection. \nSaturday\, October 5\, 4PM. If Buildings Could Talk! An exhibition walk-through: with Curator JoAnn Margolis \n 
URL:https://historicalsocietyofwoodstock.org/event/exhibit-woodstock-village-the-evolution/
LOCATION:Historical Society of Woodstock\, 20 Comeau Drive\, Woodstock\, NY\, 12498\, United States
CATEGORIES:2024,Exhibit
ATTACH;FMTTYPE=image/jpeg:https://historicalsocietyofwoodstock.org/wp-content/uploads/2024/03/Village-1.jpg
END:VEVENT
BEGIN:VEVENT
DTSTART;TZID=America/New_York:20240907T150000
DTEND;TZID=America/New_York:20240907T170000
DTSTAMP:20260420T040012
CREATED:20240306T192859Z
LAST-MODIFIED:20240723T173904Z
UID:2009-1725721200-1725728400@historicalsocietyofwoodstock.org
SUMMARY:Author’s Talk: In Defiance – Runaways from Slavery in New York’s Hudson Valley
DESCRIPTION:by Susan Stessin-Cohn and Ashley Hurlburt-Biagini\nThe Historical Society of Woodstock Presents author Susan Stessin-Cohn for a talk on the second edition of her book\, In Defiance: Runaways from Slavery in New York’s Hudson River Valley 1735-1831 \nOn Saturday September 7 at 3:00 p.m.\, the Historical Society of Woodstock will present a talk by Susan Stessin-Cohn on her newest research and second edition of the publication\, In Defiance: Runaways from Slavery in New York’s Hudson River Valley 1735-1831.    \nIn recent years\, historians and researchers have taken a closer look at New York’s complicity in the “peculiar institution” of slavery. One of the books that helped shed more light on this tragic subject was the 2016 publication of In Defiance: Runaways from Slavery in New York’s Hudson River Valley\, 1735–1831. The core of that book by Hudson Valley historical researchers\, Susan Stessin-Cohn and Ashley Hurlburt-Biagini\, was the reproduction and transcriptions of hundreds of 18th and 19th-century newspapers notices offering rewards for the return of enslaved persons who had escaped their enslavers and become “runaways.” Continuing their research\, Stessin-Cohn and Hurlburt-Biagini discovered more than 250 additional runaway notices that prompted them to rewrite and greatly expand In Defiance in this newly released Second Edition. \nMost enslaved persons held in the Hudson River Valley lived and worked and died and left behind no historical record—no birth certificates\, no marriage records\, no death certificates\, unmarked graves. But In Defiance rescues over 900 of those individuals from obscurity because they decided to free themselves; when their enslavers placed notices in local and New York City newspapers offering rewards for their return\, they not only gave identity to some of the enslaved people\, but also unwittingly indicted themselves before the bar of historical judgment. Surnames synonymous with Hudson Valley history—names like Schuyler\, Van Rensselaer\, Beekman\, Rockefeller\, Van Cortlandt\, Van Buren\, Livingston—appear throughout the book as the authors of the notices advertising rewards for the return of their enslaved “property.” \nThe result of 17 years of research on behalf of Stessin-Cohn and Hurlburt-Biagini\, In Defiance examines life in bondage in our region and the natural “fight or flight” instinct in every human being dominating the minds of all those who were treated as property. \nThe Historical Society of Woodstock is located at 20 Comeau Drive. Admission to this talk is free. While in attendance\, visitors can also view HSW’s current exhibit: Woodstock Village – The Evolution as well as the Society’s permanent Tool Shed and Remembering Woodstock exhibits
URL:https://historicalsocietyofwoodstock.org/event/authors-talk-in-defiance-runaways-from-slavery-in-new-yorks-hudson-valley/
LOCATION:Historical Society of Woodstock\, 20 Comeau Drive\, Woodstock\, NY\, 12498\, United States
CATEGORIES:2024
ATTACH;FMTTYPE=image/jpeg:https://historicalsocietyofwoodstock.org/wp-content/uploads/2024/03/In-Defiance-cover-for-fea.jpg
END:VEVENT
BEGIN:VEVENT
DTSTART;TZID=America/New_York:20240914T190000
DTEND;TZID=America/New_York:20240914T210000
DTSTAMP:20260420T040012
CREATED:20240701T133844Z
LAST-MODIFIED:20240914T143042Z
UID:2245-1726340400-1726347600@historicalsocietyofwoodstock.org
SUMMARY:Mystery In The Woodstock Speakeasy - Sept 14
DESCRIPTION:Book a Ticket\n			\n			\n				\n				\n				\n				\n				\n				\n				\n				\n				\n				\n\n\n\n\n\n\n\n\n\n\n\n\n\n\n\n\n\n\n\n\n\n\n\n\n\n\n\n\n\nIt’s 1929 and Hudson Valley based bootlegger Dutch Schultz wants to open a speakeasy in the Woodstock Valley Hotel. The club will give Dutch’s new girlfriend\, Lu Lu\, a classy place to sing her songs. Unfortunately\, local flapper Rosie doesn’t like competition and neither does Dutch's rival\, Legs Diamond. \nSergeant Lance Boyle\, a local cop who works both sides of the law\, is the club’s greeter and bouncer. Looking over his shoulder is Needles\, a longtime associate of Dutch’s\, who is on hand to emcee the entertainment portion of the evening. \nYou’ll swoon to the best of the Jazz Age as long as the temperance union and a rival bootlegger and gangster don’t rain on Dutch’s opening night. But before Lu Lu sings her second song\, tempers flare\, bullets rain and a masked gunman bursts upon the scene. At least one body will fall and it doesn’t look like the Charleston did it. \nEnjoy the roar of the 1920's as you keep track of the clues and guess whodunit. You could win a prize! \n  \nSeptember 14th at 7:00 pm \nSeptember 15th at 5:00 pm \nMescal Hornbeck Community Center \n56 Rock City Rd.\, Woodstock\, NY \n  \nTickets: \n$18 in advance (scroll down to buy ticket) \n$20 at the door \nAppetizers and desserts will be available. \n\n\n\n\n\n\n\n\n\n\n\n\n\n\n\n\n\n\n\n\n\n\n\n\n\n\n\n\n\n\n			\n				\n				\n				\n				\n				 \nCelebrating its 26th year in business\, Theatre on the Road is owned and operated by Frank and Kirsten Marquette of Rosendale\, New York. For more information visit www.theatreontheroad.com \n.
URL:https://historicalsocietyofwoodstock.org/event/mystery-in-the-woodstock-speakeasy-sept14/
LOCATION:Mescal Hornbeck Community Center\, 56 Rock City Rd.\, Woodstock\, NY\, 12498\, United States
CATEGORIES:2024,Performance
ATTACH;FMTTYPE=image/jpeg:https://historicalsocietyofwoodstock.org/wp-content/uploads/2024/07/Speakeasy-Woodstock-Image-just-photo.jpg
END:VEVENT
BEGIN:VEVENT
DTSTART;TZID=America/New_York:20240915T170000
DTEND;TZID=America/New_York:20240915T190000
DTSTAMP:20260420T040012
CREATED:20240701T135831Z
LAST-MODIFIED:20240914T143421Z
UID:2260-1726419600-1726426800@historicalsocietyofwoodstock.org
SUMMARY:Mystery In The Woodstock Speakeasy - Sept 15
DESCRIPTION:Book a Ticket\n			\n			\n				\n				\n				\n				\n				\n				\n				\n				\n				\n				\n\n\n\n\n\n\n\n\n\n\n\n\n\n\n\n\n\n\n\n\n\n\n\n\n\n\n\n\n\nIt’s 1929 and Hudson Valley based bootlegger Dutch Schultz wants to open a speakeasy in the Woodstock Valley Hotel. The club will give Dutch’s new girlfriend\, Lu Lu\, a classy place to sing her songs. Unfortunately\, local flapper Rosie doesn’t like competition and neither does Dutch's rival\, Legs Diamond. \nSergeant Lance Boyle\, a local cop who works both sides of the law\, is the club’s greeter and bouncer. Looking over his shoulder is Needles\, a longtime associate of Dutch’s\, who is on hand to emcee the entertainment portion of the evening. \nYou’ll swoon to the best of the Jazz Age as long as the temperance union and a rival bootlegger and gangster don’t rain on Dutch’s opening night. But before Lu Lu sings her second song\, tempers flare\, bullets rain and a masked gunman bursts upon the scene. At least one body will fall and it doesn’t look like the Charleston did it. \nEnjoy the roar of the 1920's as you keep track of the clues and guess whodunit. You could win a prize! \n  \nSeptember 14th at 7:00 pm \nSeptember 15th at 5:00 pm \nMescal Hornbeck Community Center \n56 Rock City Rd.\, Woodstock\, NY \n  \nTickets: \n$18 in advance (scroll down to buy ticket) \n$20 at the door \nAppetizers and desserts will be available. \n\n\n\n\n\n\n\n\n\n\n\n\n\n\n\n\n\n\n\n\n\n\n\n\n\n\n\n\n\n\n			\n				\n				\n				\n				\n				 \nCelebrating its 26th year in business\, Theatre on the Road is owned and operated by Frank and Kirsten Marquette of Rosendale\, New York. For more information visit www.theatreontheroad.com \n.
URL:https://historicalsocietyofwoodstock.org/event/mystery-in-the-woodstock-speakeasy-sept-15/
LOCATION:Mescal Hornbeck Community Center\, 56 Rock City Rd.\, Woodstock\, NY\, 12498\, United States
CATEGORIES:2024,Performance
ATTACH;FMTTYPE=image/jpeg:https://historicalsocietyofwoodstock.org/wp-content/uploads/2024/07/Speakeasy-Woodstock-Image-just-photo.jpg
END:VEVENT
BEGIN:VEVENT
DTSTART;TZID=America/New_York:20240921T160000
DTEND;TZID=America/New_York:20240921T170000
DTSTAMP:20260420T040012
CREATED:20240910T204533Z
LAST-MODIFIED:20240910T204716Z
UID:2454-1726934400-1726938000@historicalsocietyofwoodstock.org
SUMMARY:Architecture and Woodstock
DESCRIPTION:On Saturday September 21\, the Historical Society of Woodstock will host\na talk by Architect\, Barry Price\,\nspeaking on the topic\, “Architecture and Woodstock.”\n Admission is free.\nBarry Price is an Architect\, designing homes and structures in and around the Hudson Valley. He takes inspiration from the beauty of the landscape\, from its vernacular building forms and the colors and textures of the forests and mountains. His intentions are to elevate his structures from buildings to works of Architecture\, integrating modern-vernacular form with high-performance building techniques and regional materials. \nBarry Price attended Lehigh University\, the Institute for Architecture and Urban Studies in NYC\, and obtained a Master of Architecture with distinction at the Harvard University Graduate School of Design. \nBarry has won a series of residential design awards over the years. With experience as an adjunct Professor in Architectural Design\, he is often called upon to teach or act as guest critic at graduate school programs. \nBarry Price is a Certified Passive House Designer\, NCARB Certified and Licensed Architect and a member of the American Institute of Architect.  He lives in Bearsville with his wife\, April Traum\, and has two grown children living in New York City. \n\nOn that same day\, from 2:00-4:00 p.m.\, the Historical Society will also be holding a “History Harvest.”\nIn an effort to add to the Society’s archives\, if you have a unique photo of Woodstock\, its buildings\, an event\, or a memory of another time\, bring it to the Historical Society that day and it will be scanned\, returned to you and the scan will be added to the Society’s collection.
URL:https://historicalsocietyofwoodstock.org/event/architecture-and-woodstock/
LOCATION:Historical Society of Woodstock\, 20 Comeau Drive\, Woodstock\, NY\, 12498\, United States
ATTACH;FMTTYPE=image/jpeg:https://historicalsocietyofwoodstock.org/wp-content/uploads/2024/09/Barry-Price-2.jpg
END:VEVENT
END:VCALENDAR