BEGIN:VCALENDAR
VERSION:2.0
PRODID:-//HIstorical Society of Woodstock - ECPv6.15.20//NONSGML v1.0//EN
CALSCALE:GREGORIAN
METHOD:PUBLISH
X-ORIGINAL-URL:https://historicalsocietyofwoodstock.org
X-WR-CALDESC:Events for HIstorical Society of Woodstock
REFRESH-INTERVAL;VALUE=DURATION:PT1H
X-Robots-Tag:noindex
X-PUBLISHED-TTL:PT1H
BEGIN:VTIMEZONE
TZID:America/New_York
BEGIN:DAYLIGHT
TZOFFSETFROM:-0500
TZOFFSETTO:-0400
TZNAME:EDT
DTSTART:20230312T070000
END:DAYLIGHT
BEGIN:STANDARD
TZOFFSETFROM:-0400
TZOFFSETTO:-0500
TZNAME:EST
DTSTART:20231105T060000
END:STANDARD
BEGIN:DAYLIGHT
TZOFFSETFROM:-0500
TZOFFSETTO:-0400
TZNAME:EDT
DTSTART:20240310T070000
END:DAYLIGHT
BEGIN:STANDARD
TZOFFSETFROM:-0400
TZOFFSETTO:-0500
TZNAME:EST
DTSTART:20241103T060000
END:STANDARD
BEGIN:DAYLIGHT
TZOFFSETFROM:-0500
TZOFFSETTO:-0400
TZNAME:EDT
DTSTART:20250309T070000
END:DAYLIGHT
BEGIN:STANDARD
TZOFFSETFROM:-0400
TZOFFSETTO:-0500
TZNAME:EST
DTSTART:20251102T060000
END:STANDARD
END:VTIMEZONE
BEGIN:VEVENT
DTSTART;TZID=America/New_York:20240816T190000
DTEND;TZID=America/New_York:20240816T210000
DTSTAMP:20260420T065525
CREATED:20240325T135428Z
LAST-MODIFIED:20240724T160707Z
UID:2021-1723834800-1723842000@historicalsocietyofwoodstock.org
SUMMARY:Celebration: Republication of The Catskills by Alf Evers
DESCRIPTION:Celebration: Republication of\nThe Catskills\nby Alf Evers\nAn event to celebrate the republication of The Catskills: From Wilderness to Woodstock by Alf Evers will take place at the Historical Society of Woodstock on Friday\, August 16\, from 7 to 9 pm. Purple Mountain Press of Bovina recently brought out its edition of this definitive regional history. \nFor countless readers over the course of more than fifty years\, Alf’s stand-alone book has served as the gateway to learning about and treasuring the Catskills\, in all the region’s intricate and colorful history. Originally published by Doubleday in 1972 and then in an updated edition by The Overlook Press in 1982\, the book had become unavailable. \nPoet and composer Ed Sanders\, author of Alf Evers: An American Genius\, and Fred Steuding will share their recollections of working closely with Alf towards the latter part of his life\, when both friends assisted with the research and completion of his Kingston: City on the Hudson. \nBorn in 1905\, Evers grew up on a farm in Ulster County within sight of the Catskills. The genesis for The Catskills was when Alf’s frequent articles about local subjects caught the notice of an editor at Doubleday\, who approached him to write a full history. It took him eight years to research and write and was published to great success. Thrilling generations of readers since\, The Catskills presents the lore\, legends\, art and commerce\, flora\, fauna\, and natural and manmade wonders that have made the Catskills one of America’s most historically rich and romantic regions. Not least among its delights is the voice of Alf himself as a storyteller\, entertaining and wry. \n\nPublishing books since the 1980s\, Purple Mountain Press specializes in titles about the Catskills\, Adirondacks and other regions of New York State. In 2020\, founder Wray Rominger of Fleischmanns\, who ran the press with his late wife Loni for many years\, was presented with the Alf Evers Award for Excellence by the Catskill Center for Conservation and Development. The publishing house continues under the stewardship of James and Maureen Krueger. Books can be purchased at www.nysbooks.com.
URL:https://historicalsocietyofwoodstock.org/event/celebration-republication-of-the-catskills-by-alf-evers/
LOCATION:Historical Society of Woodstock\, 20 Comeau Drive\, Woodstock\, NY\, 12498\, United States
CATEGORIES:2024
ATTACH;FMTTYPE=image/jpeg:https://historicalsocietyofwoodstock.org/wp-content/uploads/2024/03/Evers_Catskills_Cover-Image-for-feature.jpg
END:VEVENT
BEGIN:VEVENT
DTSTART;VALUE=DATE:20240824
DTEND;VALUE=DATE:20241007
DTSTAMP:20260420T065525
CREATED:20240306T193521Z
LAST-MODIFIED:20241019T003356Z
UID:2011-1724457600-1728259199@historicalsocietyofwoodstock.org
SUMMARY:Exhibit: Woodstock Village: The Evolution
DESCRIPTION:A photo exploration of how the village of Woodstock  transformed from a small rural town to a  bustling creative community. The exhibit illustrates how buildings and businesses changed over the years. \nThe exhibit contains  photographs  from the  late 1800s to present\, from the Historical Society of Woodstock and private collections. Current  photos of Mill Hill Road\, Tinker Street and Rock City Road were taken by Henry Neimark and Fern Malkine-Falvey. Maps\, and paintings  by \nWoodstock artists\, John Pike\, Wilna Hervey\, Agnes Bierhals\, Jean White and others are presented to illustrate changes over time. \nSome buildings remain relatively unchanged\, others are gone\, and some transformed.   Woodstock has changed and evolved dramatically\, but the  business district has been the center of commercial\, social and cultural life in the village for over 200 years. \nIf buildings could talk\, what tales would they tell? \nSaturdays and Sundays\, 1 -5 pm \nHSW Eames Museum20 Comeau DriveWoodstock\, NY 12498 \nEvents\nSaturday\, August 24\, 4 PM. A Brief History of Woodstock: a talk by Richard Heppner\, Woodstock Town Historian. – see more info \nSaturday\, August 24\, 2 to 4 PM. History Harvest.  Bring a photo of a Woodstock village building or event.  It will be scanned on site  to be added to the HSW Woodstock Town Center Collection. \nSaturday\, September 21\, 4 PM\, Woodstock Architecture: a talk by Barry Price\, architect. \nSaturday\, September 21\,  2-4 PM. History Harvest. Bring a photo of a Woodstock village building or event.  It will be scanned on site to be added to the HSW Woodstock Town Center Collection. \nSaturday\, October 5\, 4PM. If Buildings Could Talk! An exhibition walk-through: with Curator JoAnn Margolis \n 
URL:https://historicalsocietyofwoodstock.org/event/exhibit-woodstock-village-the-evolution/
LOCATION:Historical Society of Woodstock\, 20 Comeau Drive\, Woodstock\, NY\, 12498\, United States
CATEGORIES:2024,Exhibit
ATTACH;FMTTYPE=image/jpeg:https://historicalsocietyofwoodstock.org/wp-content/uploads/2024/03/Village-1.jpg
END:VEVENT
BEGIN:VEVENT
DTSTART;TZID=America/New_York:20240824T140000
DTEND;TZID=America/New_York:20240824T170000
DTSTAMP:20260420T065525
CREATED:20240819T134802Z
LAST-MODIFIED:20240819T135949Z
UID:2337-1724508000-1724518800@historicalsocietyofwoodstock.org
SUMMARY:Woodstock – An Evolutionary Tale
DESCRIPTION:A Talk by Town Historian\, Richard Heppner\nSaturday August 24 at 4:00 pm.\nAlso – A History Harvest from 2-4:00 pm\nIn conjunction with the Historical Society’s current exhibit\, HSW will present a talk entitled\, Woodstock – An Evolutionary Tale\, by Woodstock Town Historian Richard Heppner on August 24th at 4:00 pm. The talk will be held at the Historical Society’s Eames House Museum on Comeau Drive. Admission is free. \nMuch has unfolded within the shadow of Overlook Mountain since the founding of Woodstock in 1787. Over the course of more than two centuries\, Woodstock has evolved from a rural Catskill Mountain town to what some have proclaimed to be the “most famous small town in America.” During that span\, Woodstock has been buffeted by both internal and external forces unlike other small towns and far beyond what the town’s founding fathers and mothers could have envisioned as the 18th century drew to a close. \nSo how did Woodstock become Woodstock? While it is a tale that goes far beyond a festival that bore its name (though never held here)\, it is a tale that includes hardworking laborers cutting bluestone and working the tannery\, artists\, musicians\, conservative and progressive politics\, tourists\, changing businesses\, generational conflict\, and a collective of townspeople who often saw the world through a slightly different lens. \nDuring his talk\, Heppner will explore the many facets that have combined over the years to create an uncommon history; a history unique in its telling and\, frankly\, hard to imagine. \nRichard Heppner has served as Woodstock’s town historian since 2001. During his tenure\, he has written multiple of books and essays on Woodstock history. His latest book\, Woodstock – From World War to Culture Wars will be released by SUNY Press on October 1. \nAlso\, on August 24 from 2:00-4:00 pm\, HSW will be conducting a “History Harvest.” In an effort to add to the Society’s archives\, if you have a unique photo of Woodstock\, its buildings\, an event\, or a memory of another time\, bring it to the Historical Society that day and it will be scanned\, returned to you and the scan will be added to the Society’s collection. \n 
URL:https://historicalsocietyofwoodstock.org/event/woodstock-an-evolutionary-tale/
CATEGORIES:2024
ATTACH;FMTTYPE=image/jpeg:https://historicalsocietyofwoodstock.org/wp-content/uploads/2024/03/Village34.jpg
END:VEVENT
END:VCALENDAR