BEGIN:VCALENDAR
VERSION:2.0
PRODID:-//HIstorical Society of Woodstock - ECPv6.15.20//NONSGML v1.0//EN
CALSCALE:GREGORIAN
METHOD:PUBLISH
X-WR-CALNAME:HIstorical Society of Woodstock
X-ORIGINAL-URL:https://historicalsocietyofwoodstock.org
X-WR-CALDESC:Events for HIstorical Society of Woodstock
REFRESH-INTERVAL;VALUE=DURATION:PT1H
X-Robots-Tag:noindex
X-PUBLISHED-TTL:PT1H
BEGIN:VTIMEZONE
TZID:America/New_York
BEGIN:DAYLIGHT
TZOFFSETFROM:-0500
TZOFFSETTO:-0400
TZNAME:EDT
DTSTART:20220313T070000
END:DAYLIGHT
BEGIN:STANDARD
TZOFFSETFROM:-0400
TZOFFSETTO:-0500
TZNAME:EST
DTSTART:20221106T060000
END:STANDARD
BEGIN:DAYLIGHT
TZOFFSETFROM:-0500
TZOFFSETTO:-0400
TZNAME:EDT
DTSTART:20230312T070000
END:DAYLIGHT
BEGIN:STANDARD
TZOFFSETFROM:-0400
TZOFFSETTO:-0500
TZNAME:EST
DTSTART:20231105T060000
END:STANDARD
BEGIN:DAYLIGHT
TZOFFSETFROM:-0500
TZOFFSETTO:-0400
TZNAME:EDT
DTSTART:20240310T070000
END:DAYLIGHT
BEGIN:STANDARD
TZOFFSETFROM:-0400
TZOFFSETTO:-0500
TZNAME:EST
DTSTART:20241103T060000
END:STANDARD
END:VTIMEZONE
BEGIN:VEVENT
DTSTART;TZID=America/New_York:20230408T190000
DTEND;TZID=America/New_York:20230408T190000
DTSTAMP:20260419T163950
CREATED:20230517T160601Z
LAST-MODIFIED:20230605T203008Z
UID:100-1680980400-1680980400@historicalsocietyofwoodstock.org
SUMMARY:BENEFIT CONCERT featuring  THE MARC BLACK BAND and SABRINA & THE GEMS with RENNIE CANTINE
DESCRIPTION:featuring\n			\n			\n				\n				\n				\n				\n			\n				\n				\n				\n				\n				\n				\n				\n				\n				\n				\n				The Marc Black Band features the wonderful vocals of Amy Fradon\, joyous Eric Parker on drums; and psychedelic inventor and Blues Magoos founder Mike Esposito on bass. Their wildly danceable blues has led to Marc’s induction into the New York Chapter of the Blues Hall of Fame\, and his recent album\, Everybody Wants My Hat\, reached the top ten on the International Folk Radio Charts. As a teenager\, Marc fronted the Blades of Grass and toured with many of the biggest acts of the day including the Doors\, Van Morrison. A few years later\, he became the first indie singer-songwriter to garner a pick hit in Billboard Magazine. In the words of Don Wilcock\, editor of the Blues Revue\, “Marc’s show is beyond marvelous. It is truly transcendent.” \n			\n			\n				\n				\n				\n				\n				\n				\n				\n				\n				\n				\n			\n			\n				\n				\n				\n				\n			\n				\n				\n			\n				\n				\n				\n				\n				\n				\n				\n				\n				\n				\n				\n				\n				\n				\n				\n				\n				\n				SUPPORTING ACT\n			\n			\n				\n				\n				\n				\n			\n				\n				\n				\n				\n				\n				\n				\n				\n				\n				\n				Sabrina & the Gems have been rocking the Hudson Valley with their distinctive psychedelic funk/rock for the last 7 years. Sabrina Miller adds her poetry and original songs to Rennie Cantine’s soaring guitar licks. Sabrina & the Gems have played hundreds of gigs\, rehearsals\, parties\, appearances on WDST\, and released their record The Dream that Woke You. Drawing comparisons to Grace Slick\, Joan Jett and Ani Defranco\, Sabrina shrugs it off: “we are here to tell it like we see it…stand up for our friends and family…and rock it hard.”  \n			\n			\n				\n				\n				\n				\n				\n				\n				\n				\n				\n				\n			\n			\n				\n				\n				\n				\n			\n				\n				\n				\n				\n				\n				\n				\n				\n				\n				\n				With Johnny Nitcher bringing years of his Punk/Ska/Rock sentiment to his grooving bass lines\, and Mike Dubois laying down his phat drum signatures to the songs\, Sabrina & the Gems have carved out their own sound.  Woodstock’s Guitar Laureate Rennie Cantine will be bringing Ben Prevo’s old 1969 Black Top Les Paul\, Tom Glazel’s old Frankenstrat\, a Veillette or two\, and the Strat and Fender Twin Joe Beesmer gave him on his way up.
URL:https://historicalsocietyofwoodstock.org/event/benefit-concert-featuring-the-marc-black-band-and-sabrina-the-gems-with-rennie-cantine/
LOCATION:Mescal Hornbeck Community Center\, 56 Rock City Rd.\, Woodstock\, NY\, 12498\, United States
CATEGORIES:2023
ATTACH;FMTTYPE=image/jpeg:https://historicalsocietyofwoodstock.org/wp-content/uploads/2023/03/Marc-Black-photo-by-Erik-Lamont-002.jpg
END:VEVENT
BEGIN:VEVENT
DTSTART;TZID=America/New_York:20230403T190000
DTEND;TZID=America/New_York:20230403T190000
DTSTAMP:20260419T163950
CREATED:20230517T153013Z
LAST-MODIFIED:20230605T202732Z
UID:83-1680548400-1680548400@historicalsocietyofwoodstock.org
SUMMARY:A discussion of Tom Riley’s Memoir: More Light\, An Artist’s Life with Meher Baba
DESCRIPTION:Via Zoom; to join the event\, request the Zoom link by emailing historicalsocietyofwoodstockny@gmail.com with “Tom Riley” in the subject line\nOn April 3\, 2023 at 7 PM you are invited to join Janine Fallon Mower and Bruce Weber of the Historical Society of Woodstock in a ZOOM interview with Cathy Riley as they discuss the memoir\, More Light\, An Artist’s Life with Meher Baba\, written by her late husband Tom Riley. Tom\, an accomplished artist and renowned storyteller\, grew up in the legendary community of Woodstock\, New York. He learned of Meher Baba in 1954 and was truly fortunate to spend incomparable time in Meher Baba’s divine company. \n			\n			\n				\n				\n				\n				\n				\n				\n				\n				\n				\n				\n			\n			\n				\n				\n				\n				\n			\n				\n				\n			\n				\n				\n				\n				\n				\n				\n				\n				\n				\n				\n				\n				\n				\n				\n				\n				\n				\n				\n			\n			\n				\n				\n				\n				\n				\n				\n				\n				\n				\n				Tom’s memoir\, More Light\, is a captivating account of Tom Riley’s artistic and spiritual journey\, which included studying with artist Walter Goltz in Woodstock\, years of practicing the art of oil painting and fine illustrative drawing\, and membership in the Woodstock Artists Association. First at Winchell’s Corner Store in Shokan and later at Meher Circle in Woodstock\, Tom also drew together like-minded Woodstock residents and other seekers who gathered in meetings for many years to share the awakening teachings of Meher Baba. 
URL:https://historicalsocietyofwoodstock.org/event/a-discussion-of-tom-rileys-memoir-more-light-an-artists-life-with-meher-baba/
LOCATION:Via Zoom
CATEGORIES:2023
ATTACH;FMTTYPE=image/jpeg:https://historicalsocietyofwoodstock.org/wp-content/uploads/2023/03/More-Light.jpg
END:VEVENT
BEGIN:VEVENT
DTSTART;VALUE=DATE:20230325
DTEND;VALUE=DATE:20230327
DTSTAMP:20260419T163950
CREATED:20230517T183330Z
LAST-MODIFIED:20230605T202830Z
UID:60-1679702400-1679875199@historicalsocietyofwoodstock.org
SUMMARY:Annual Sale of Treasures and Trinkets
DESCRIPTION:9am-3 pm each day\nCommunity members have generously gone into attics\, barns\, and cellars and have  donated wonderful items to the HSW sale . Flow blue China\, Wedgewood China\, linens\, household items\, tools\, jewelry\, small furniture\, artwork\, holiday decorations vintage treasures and more. All proceeds benefit the Historical Society of Woodstock .
URL:https://historicalsocietyofwoodstock.org/event/annual-sale-of-treasures-and-trinkets/
LOCATION:Historical Society of Woodstock\, 20 Comeau Drive\, Woodstock\, NY\, 12498\, United States
CATEGORIES:2023
ATTACH;FMTTYPE=image/jpeg:https://historicalsocietyofwoodstock.org/wp-content/uploads/2023/03/IMG_4273.jpg
END:VEVENT
BEGIN:VEVENT
DTSTART;TZID=America/New_York:20230228T190000
DTEND;TZID=America/New_York:20230228T210000
DTSTAMP:20260419T163950
CREATED:20230602T194829Z
LAST-MODIFIED:20230602T194915Z
UID:1040-1677610800-1677618000@historicalsocietyofwoodstock.org
SUMMARY:“Woodstock Art Colony Kids: with Barbara Carlson\, Sarah Mecklem and Meed Wetterau Barnett”
DESCRIPTION:On February 28\, 2023 at 7 PM\, art historian Bruce Weber will interview Meed Wetterau Barnett\, Barbara Carlson\, and Sarah Mecklem\, all of whom grew up in Woodstock’s art colony in the period after World War II. They will discuss their experiences coming of age in this unique community\, their artistic families\, and the impact growing up in Woodstock among a thriving community of artists has had on their lives. \nMeed Wetterau Barnett \nis the grandchild of illustrator and landscape painter Rudolph Wetterau and portrait painter Margaret Wetterau. Meed was born in Greenwich Village and lived there until they were almost five\, when the family broke up. They lived in and near Woodstock until they left at the age of eighteen. They have deep visual memories of both late ‘40s Greenwich Village and ‘50s /’60s Woodstock. Meed has followed the family tradition and is an artist\, writer\, and singer. \n\n\n\n\n\n\n\n\n\n\n			\n			\n				\n				\n				\n				\n			\n				\n				\n				\n				\n				\n				\n				\n				\n				\n				\n				\n			\n			\n				\n				\n				\n				\n				\n				\n				\n				\n				\n				\n\n\n\n\n\n\n\n\n\nBarbara Carlson \nis the granddaughter of John F. Carlson\, landscape painter and author of The Elementary Principles of Landscape Painting\, and of Margaret Goddard Carlson\, also a noted landscape painter. Many of her other family members were involved in the visual arts and music\, including her uncle\, Broadway performer and singer Robert Eric Carlson. She believes that the “wide\, deep\, and constant exposure to the arts” that growing up in Woodstock provided was unique. \n\n\n\n\n\n\n\n\n\n\n			\n			\n				\n				\n				\n				\n			\n				\n				\n				\n				\n				\n				\n				\n				\n				\n				\n				\n			\n			\n				\n				\n				\n				\n				\n				\n				\n				\n				\n				\n\n\n\n\n\n\n\n\n\nSarah Mecklem \nis the daughter of Austin Mecklem and Marianne Appel\, both noted landscape artists. She grew up in Woodstock with the children of many other local artists until moving to New York City at age 10. She went to art school\, including at the Woodstock School of Art. Sarah Mecklem is herself a noted painter and sculptor who has exhibited widely\, including at Kleinert James Art Center in Woodstock.
URL:https://historicalsocietyofwoodstock.org/event/woodstock-art-colony-kids-with-barbara-carlson-sarah-mecklem-and-meed-wetterau-barnett/
LOCATION:Via Zoom
CATEGORIES:2023
ATTACH;FMTTYPE=image/jpeg:https://historicalsocietyofwoodstock.org/wp-content/uploads/2023/06/5ce81f9cb905c7ccdaf23b811254de77.jpg
END:VEVENT
END:VCALENDAR