BEGIN:VCALENDAR
VERSION:2.0
PRODID:-//HIstorical Society of Woodstock - ECPv6.15.20//NONSGML v1.0//EN
CALSCALE:GREGORIAN
METHOD:PUBLISH
X-WR-CALNAME:HIstorical Society of Woodstock
X-ORIGINAL-URL:https://historicalsocietyofwoodstock.org
X-WR-CALDESC:Events for HIstorical Society of Woodstock
REFRESH-INTERVAL;VALUE=DURATION:PT1H
X-Robots-Tag:noindex
X-PUBLISHED-TTL:PT1H
BEGIN:VTIMEZONE
TZID:America/New_York
BEGIN:DAYLIGHT
TZOFFSETFROM:-0500
TZOFFSETTO:-0400
TZNAME:EDT
DTSTART:20240310T070000
END:DAYLIGHT
BEGIN:STANDARD
TZOFFSETFROM:-0400
TZOFFSETTO:-0500
TZNAME:EST
DTSTART:20241103T060000
END:STANDARD
BEGIN:DAYLIGHT
TZOFFSETFROM:-0500
TZOFFSETTO:-0400
TZNAME:EDT
DTSTART:20250309T070000
END:DAYLIGHT
BEGIN:STANDARD
TZOFFSETFROM:-0400
TZOFFSETTO:-0500
TZNAME:EST
DTSTART:20251102T060000
END:STANDARD
BEGIN:DAYLIGHT
TZOFFSETFROM:-0500
TZOFFSETTO:-0400
TZNAME:EDT
DTSTART:20260308T070000
END:DAYLIGHT
BEGIN:STANDARD
TZOFFSETFROM:-0400
TZOFFSETTO:-0500
TZNAME:EST
DTSTART:20261101T060000
END:STANDARD
BEGIN:DAYLIGHT
TZOFFSETFROM:-0500
TZOFFSETTO:-0400
TZNAME:EDT
DTSTART:20270314T070000
END:DAYLIGHT
BEGIN:STANDARD
TZOFFSETFROM:-0400
TZOFFSETTO:-0500
TZNAME:EST
DTSTART:20271107T060000
END:STANDARD
END:VTIMEZONE
BEGIN:VEVENT
DTSTART;VALUE=DATE:20251213
DTEND;VALUE=DATE:20251215
DTSTAMP:20260419T211449
CREATED:20251113T164054Z
LAST-MODIFIED:20251204T151652Z
UID:3000-1765584000-1765756799@historicalsocietyofwoodstock.org
SUMMARY:Holiday Market Fair - Dec 13 & 14
DESCRIPTION:Sleighing\, Jean White watercolor from the book\, Sarah of Overlook Mountain\n			\n			\n				\n				\n				\n				\n				\n				\n				\n				\n				\n				The Historical Society of Woodstock\, located at 20 Comeau Drive in Woodstock\, is pleased to announce its annual Holiday Market Fair. \nDecember 13 and 1410:00 a.m. – 4:00 p.m. each day.\nShop local crafts\, holiday cards\, local books\, original artwork\, delectable treats\, handknit items and more. \n			\n			\n				\n				\n				\n				\n			\n				\n				\n				\n				\n				\n				\n				\n				\n				\n				\n				As always\, our wonderful hot cider will be available each day for all our shoppers and holiday greens and holly will be waiting on the front porch… free to all visitors.
URL:https://historicalsocietyofwoodstock.org/event/holiday-market-fair-dec-13-14/
LOCATION:NY
CATEGORIES:2025 events
ATTACH;FMTTYPE=image/jpeg:https://historicalsocietyofwoodstock.org/wp-content/uploads/2025/11/Sleigh.jpg
END:VEVENT
BEGIN:VEVENT
DTSTART;TZID=America/New_York:20251220T150000
DTEND;TZID=America/New_York:20251220T170000
DTSTAMP:20260419T211449
CREATED:20251121T190630Z
LAST-MODIFIED:20251210T174127Z
UID:3016-1766242800-1766250000@historicalsocietyofwoodstock.org
SUMMARY:"Nothing of Insignificance" Concludes our Season
DESCRIPTION:The Historical Society of Woodstock Presents:\nA Talk with Brian Hollander\nWhen: Saturday December 20 at 3:00 p.m.\nWhere: Historical Society of Woodstock\n  \nOn Saturday December 20 at 3:00 p.m.\, the Historical Society of Woodstock will wrap up the year with a special discussion between author Brian Hollander and town historian Richard Heppner focusing on Hollander’s new book\, Nothing of Insignificance: Adventures in Journalism\, as well as their shared reflections on Woodstock\, past and present.  \n			\n			\n				\n				\n				\n				\n			\n				\n				\n				\n				\n				\n				\n				\n				\n				\n				\n				Brian Hollander has been at the center of local life for several years\, serving as Woodstock Times editor for 19 years\, as a founding DJ at WDST and Woodstock town supervisor for two terms. Countless audiences have also come to know Brian through his music\, having played in local bands since he arrived in the early 1970s. Throughout the years he has gathered\, and now has published\, the unexpected stories that give our community its character. \nThe Historical Society invites you to join in on what promises to a free-wheeling discussion between the two authors on Woodstock\, writing\, local history\, the state of journalism and whatever else comes to mind. \nAdmission to this event is free and Brian’s book will be available at the talk for signing. The Historical Society of Woodstock is located at 20 Comeau Drive in Woodstock. Additional parking is available in the lower Comeau parking lot – just take the path at the rear of the lot up to the Society.
URL:https://historicalsocietyofwoodstock.org/event/nothing-of-insignificance-concludes-our-season/
LOCATION:NY
CATEGORIES:2025,2025 events
END:VEVENT
BEGIN:VEVENT
DTSTART;VALUE=DATE:20260201
DTEND;VALUE=DATE:20260412
DTSTAMP:20260419T211449
CREATED:20260204T143445Z
LAST-MODIFIED:20260409T214432Z
UID:3106-1769904000-1775951999@historicalsocietyofwoodstock.org
SUMMARY:Making Her Mark: Fifty Women Artists of the Historic Woodstock Art Colony\, now on display at the  Schmucker Art Gallery at Gettysburg College.
DESCRIPTION:The Historical Society of Woodstock’s 2025 exhibit\, Making Her Mark: Fifty Women Artists of the Historic Woodstock Art Colony\, now on display at theSchmucker Art Galleryat Gettysburg College.\n  \nThe Schmucker Art Gallery at Gettysburg College is pleased to announce the opening of the exhibition\, Making Her Mark: Fifty Women Artists of the Historic Woodstock Art Colony\, curated by independent scholar Dr. Bruce Weber. On loan from the Historical Society of Woodstock\, the exhibition celebrates the work of 50 women artists who were active in the historic Woodstock art colony. The paintings\, drawings and prints are drawn from the permanent collection of the Historical Society of Woodstock. The display ranges from women who arrived during the first decades of the 20th century as students at the Art Student League’s Woodstock School of Landscape Painting to those who came in the wake of the end of the second World War through the 1970s\, with subjects ranging from portraiture\, landscapes\, and still lifes to abstraction. The exhibition explores the American art colony movement of the late nineteenth and early twentieth century as an alternative space for women who desired a life outside of the mainstream. \n  \nThe exhibit will run at the Schmucker Art Gallery until April 11\, 2026.
URL:https://historicalsocietyofwoodstock.org/event/making-her-mark-fifty-women-artists-of-the-historic-woodstock-art-colony-now-on-display-at-the-schmucker-art-gallery-at-gettysburg-college/
LOCATION:Schmucker Art Gallery\, 300 N Washington St\, Gettysburg\, PA\, 17325\, United States
CATEGORIES:2026,Exhibit
ATTACH;FMTTYPE=image/webp:https://historicalsocietyofwoodstock.org/wp-content/uploads/2026/02/shumaker-art-gallery-hoz.webp
END:VEVENT
BEGIN:VEVENT
DTSTART;VALUE=DATE:20260417
DTEND;VALUE=DATE:20260420
DTSTAMP:20260419T211449
CREATED:20260327T172020Z
LAST-MODIFIED:20260419T171124Z
UID:3128-1776384000-1776643199@historicalsocietyofwoodstock.org
SUMMARY:Come Thrift With Us - April 17&18
DESCRIPTION:Historical Society of Woodstock presentsAnnual Yard Sale \nDates: Friday\, April 17 & Saturday\, April 19\nTimes: 9 AM to 3 PM\nLocation: Historical Society of Woodstock\, 20 Comeau Dr.\, Woodstock NY 12498\nAdmission: Free\nCome Thrift with us!!!!\nThe Historical Society of Woodstock\, located at 20 Comeau Drive in Woodstock\, will be having its annual yard sale fundraiser on Friday April 17 and Sunday April 19  from 9 AM to 3 PM each day. This year many of the sale items generously come from the estates of several long time Woodstockers. Items for sale include many lovely household items\, tools\, select clothing\, small furniture\, artwork\, and more! Free coffee and tea to all shoppers and a delectable Historical Society bake sale. Rain or Shine! \n			\n			\n				\n				\n				\n				\n			\n				\n				\n				\n				\n				\n				\n				\n				\n				\n				\n				\n			\n			\n				\n				\n				\n				\n				\n				\n				\n				\n				\n				\n			\n			\n				\n				\n				\n				\n				\n				\n				\n				\n				\n				\n			\n			\n				\n				\n				\n				\n				\n				\n				\n				\n				\n				\n			\n			\n				\n				\n				\n				\n			\n				\n				\n				\n				\n				\n				\n				\n				\n				\n				\n				The Historical Society of Woodstock was founded in 1929 by a group of artists\, writers\, academics\, and local citizens. In addition to the exhibition space\, which is located at the historic Eames House on Comeau Drive in the center of Woodstock\, the Historical Society has an extensive archive consisting of paintings\, prints\, drawings\, sculpture\, textiles\, photographs\, books\, manuscripts\, correspondence\, documents\, film/sound recordings\, and antique tools. The archive serves as a resource for a wide range of exhibitions\, public programming\, and research.
URL:https://historicalsocietyofwoodstock.org/event/come-thrift-with-us-april-1718/
LOCATION:NY
CATEGORIES:2026 events
ATTACH;FMTTYPE=image/webp:https://historicalsocietyofwoodstock.org/wp-content/uploads/2026/03/Yard-Sale.webp
END:VEVENT
END:VCALENDAR