BEGIN:VCALENDAR
VERSION:2.0
PRODID:-//HIstorical Society of Woodstock - ECPv6.15.20//NONSGML v1.0//EN
CALSCALE:GREGORIAN
METHOD:PUBLISH
X-WR-CALNAME:HIstorical Society of Woodstock
X-ORIGINAL-URL:https://historicalsocietyofwoodstock.org
X-WR-CALDESC:Events for HIstorical Society of Woodstock
REFRESH-INTERVAL;VALUE=DURATION:PT1H
X-Robots-Tag:noindex
X-PUBLISHED-TTL:PT1H
BEGIN:VTIMEZONE
TZID:America/New_York
BEGIN:DAYLIGHT
TZOFFSETFROM:-0500
TZOFFSETTO:-0400
TZNAME:EDT
DTSTART:20240310T070000
END:DAYLIGHT
BEGIN:STANDARD
TZOFFSETFROM:-0400
TZOFFSETTO:-0500
TZNAME:EST
DTSTART:20241103T060000
END:STANDARD
BEGIN:DAYLIGHT
TZOFFSETFROM:-0500
TZOFFSETTO:-0400
TZNAME:EDT
DTSTART:20250309T070000
END:DAYLIGHT
BEGIN:STANDARD
TZOFFSETFROM:-0400
TZOFFSETTO:-0500
TZNAME:EST
DTSTART:20251102T060000
END:STANDARD
BEGIN:DAYLIGHT
TZOFFSETFROM:-0500
TZOFFSETTO:-0400
TZNAME:EDT
DTSTART:20260308T070000
END:DAYLIGHT
BEGIN:STANDARD
TZOFFSETFROM:-0400
TZOFFSETTO:-0500
TZNAME:EST
DTSTART:20261101T060000
END:STANDARD
END:VTIMEZONE
BEGIN:VEVENT
DTSTART;TZID=America/New_York:20250920T130000
DTEND;TZID=America/New_York:20251102T170000
DTSTAMP:20260419T094924
CREATED:20250825T142418Z
LAST-MODIFIED:20250825T142533Z
UID:2853-1758373200-1762102800@historicalsocietyofwoodstock.org
SUMMARY:“It Was Fifty Years Ago Today” 1970's Woodstock Through the Lens
DESCRIPTION:Opening In September\n“It Was Fifty Years Ago Today”– 1970’s Woodstock Through the Lens –\nA Photographic Essayby Karyn (Provenzano) Bevet\nHSW is pleased to announce\, beginning in September\, a new exhibit looking back at Woodstock as it moved through the post-festival years. \nThe exhibit\, “It Was Fifty Years Ago Today\,” will kick-off with an opening reception on \nFriday September 19th from 6:30 – 8:30.\n			\n			\n				\n				\n				\n				\n			\n				\n				\n				\n				\n				\n				\n				\n				\n				\n				\n				Photographer and HSW Board member Karyn (Provenzano) Bevet arrived in Woodstock in 1969. This exhibition of her photographs chronicles her experiences – and the people she met along the way – during Woodstock’s rock and rolling decade of change.
URL:https://historicalsocietyofwoodstock.org/event/it-was-fifty-years-ago-today-1970s-woodstock-through-the-lens/
CATEGORIES:2025 events
ATTACH;FMTTYPE=image/jpeg:https://historicalsocietyofwoodstock.org/wp-content/uploads/2025/08/Karyn.jpeg
END:VEVENT
BEGIN:VEVENT
DTSTART;TZID=America/New_York:20250926T090000
DTEND;TZID=America/New_York:20250927T150000
DTSTAMP:20260419T094924
CREATED:20250922T192359Z
LAST-MODIFIED:20250922T193035Z
UID:2877-1758877200-1758985200@historicalsocietyofwoodstock.org
SUMMARY:End of Season Yard Sale Fundraiser
DESCRIPTION:Dates: Friday\, September 26 & Saturday\, September 27\nTimes: 9 AM to 3 PM\nLocation: Historical Society of Woodstock\, 20 Comeau Dr.\, Woodstock NY 12498\nAdmission: Free \n \nThe Historical Society of Woodstock is pleased to announce its end of season yard sale\, a fundraiser for the HSW. Community members have generously gone into attics\, barns\, and cellars and have donated wonderful items to the sale. Vi \nntage items\, jewelry\, furniture\, artwork\, household\, and more are featured. All proceeds benefit the Historical Society of Woodstock. \nThe sale will take place at the Historical Society of Woodstock’s Eames House\, located at 20 Comeau Drive in Woodstock\, on Friday and Saturday September 26 and 27 from 9 a.m. to 3 p.m. each day. Admission is free. \nThe event will also include a bake sale\, an assortment of tasty baked goods from Woodstock’s best kitchens.
URL:https://historicalsocietyofwoodstock.org/event/end-of-season-yard-sale-fundraiser/
CATEGORIES:2025 events
ATTACH;FMTTYPE=image/gif:https://historicalsocietyofwoodstock.org/wp-content/uploads/2025/09/YardSale-1.gif
END:VEVENT
END:VCALENDAR