BEGIN:VCALENDAR
VERSION:2.0
PRODID:-//HIstorical Society of Woodstock - ECPv6.15.20//NONSGML v1.0//EN
CALSCALE:GREGORIAN
METHOD:PUBLISH
X-WR-CALNAME:HIstorical Society of Woodstock
X-ORIGINAL-URL:https://historicalsocietyofwoodstock.org
X-WR-CALDESC:Events for HIstorical Society of Woodstock
REFRESH-INTERVAL;VALUE=DURATION:PT1H
X-Robots-Tag:noindex
X-PUBLISHED-TTL:PT1H
BEGIN:VTIMEZONE
TZID:America/New_York
BEGIN:DAYLIGHT
TZOFFSETFROM:-0500
TZOFFSETTO:-0400
TZNAME:EDT
DTSTART:20230312T070000
END:DAYLIGHT
BEGIN:STANDARD
TZOFFSETFROM:-0400
TZOFFSETTO:-0500
TZNAME:EST
DTSTART:20231105T060000
END:STANDARD
BEGIN:DAYLIGHT
TZOFFSETFROM:-0500
TZOFFSETTO:-0400
TZNAME:EDT
DTSTART:20240310T070000
END:DAYLIGHT
BEGIN:STANDARD
TZOFFSETFROM:-0400
TZOFFSETTO:-0500
TZNAME:EST
DTSTART:20241103T060000
END:STANDARD
BEGIN:DAYLIGHT
TZOFFSETFROM:-0500
TZOFFSETTO:-0400
TZNAME:EDT
DTSTART:20250309T070000
END:DAYLIGHT
BEGIN:STANDARD
TZOFFSETFROM:-0400
TZOFFSETTO:-0500
TZNAME:EST
DTSTART:20251102T060000
END:STANDARD
END:VTIMEZONE
BEGIN:VEVENT
DTSTART;VALUE=DATE:20241206
DTEND;VALUE=DATE:20241209
DTSTAMP:20260420T021220
CREATED:20241019T003129Z
LAST-MODIFIED:20241107T210650Z
UID:2555-1733443200-1733702399@historicalsocietyofwoodstock.org
SUMMARY:HSW Holiday Market Fair - Dec 6-8
DESCRIPTION:The Historical Society of Woodstock\, located at 20 Comeau Drive in Woodstock\, is pleased to announce its annual Holiday Market Fair. \nBeginning Friday December 6\, from 12:00 to 4:00 p.m.\, and continuing Saturdays and Sundays\, December 7\, 8\, 14\, and 15 from 10:00 a.m. to 3:00 p.m. each day.\nShop local crafts\, holiday cards\, local books\, original artwork\, delectable treats\, handknit items and more. \nOur Historical Society Bakers are busy at work preparing for our ever-popular cookie tins. This year we are also bringing back our Woodstock cookbook\, The Cookie Collection. This updated edition is dedicated in memory of longtime Society Board members\, Kathy Anderson and Jean White. As always\, delicious\, spiced cider\, treats and fresh holly and greens are our holiday gifts to all shoppers.
URL:https://historicalsocietyofwoodstock.org/event/hsw-holiday-market-fair/
LOCATION:Historical Society of Woodstock\, 20 Comeau Drive\, Woodstock\, NY\, 12498\, United States
CATEGORIES:2024
ATTACH;FMTTYPE=image/jpeg:https://historicalsocietyofwoodstock.org/wp-content/uploads/2024/10/Holiday-image.jpg
END:VEVENT
END:VCALENDAR