BEGIN:VCALENDAR
VERSION:2.0
PRODID:-//HIstorical Society of Woodstock - ECPv6.15.20//NONSGML v1.0//EN
CALSCALE:GREGORIAN
METHOD:PUBLISH
X-WR-CALNAME:HIstorical Society of Woodstock
X-ORIGINAL-URL:https://historicalsocietyofwoodstock.org
X-WR-CALDESC:Events for HIstorical Society of Woodstock
REFRESH-INTERVAL;VALUE=DURATION:PT1H
X-Robots-Tag:noindex
X-PUBLISHED-TTL:PT1H
BEGIN:VTIMEZONE
TZID:America/New_York
BEGIN:DAYLIGHT
TZOFFSETFROM:-0500
TZOFFSETTO:-0400
TZNAME:EDT
DTSTART:20220313T070000
END:DAYLIGHT
BEGIN:STANDARD
TZOFFSETFROM:-0400
TZOFFSETTO:-0500
TZNAME:EST
DTSTART:20221106T060000
END:STANDARD
BEGIN:DAYLIGHT
TZOFFSETFROM:-0500
TZOFFSETTO:-0400
TZNAME:EDT
DTSTART:20230312T070000
END:DAYLIGHT
BEGIN:STANDARD
TZOFFSETFROM:-0400
TZOFFSETTO:-0500
TZNAME:EST
DTSTART:20231105T060000
END:STANDARD
BEGIN:DAYLIGHT
TZOFFSETFROM:-0500
TZOFFSETTO:-0400
TZNAME:EDT
DTSTART:20240310T070000
END:DAYLIGHT
BEGIN:STANDARD
TZOFFSETFROM:-0400
TZOFFSETTO:-0500
TZNAME:EST
DTSTART:20241103T060000
END:STANDARD
END:VTIMEZONE
BEGIN:VEVENT
DTSTART;VALUE=DATE:20230610
DTEND;VALUE=DATE:20230724
DTSTAMP:20260423T055021
CREATED:20230602T164457Z
LAST-MODIFIED:20230616T191357Z
UID:1002-1686355200-1690156799@historicalsocietyofwoodstock.org
SUMMARY:Woodstock Art Colony Works On Paper
DESCRIPTION:Time: 1–5 p.m.\nOpening reception\nSaturday\, June 10\, 3–5 p.m.\nwith talk by Bruce Weber at 3:30 p.m.\n\n			\n			\n				\n				\n				\n				\n			\n				\n				\n			\n				\n				\n				\n				\n				\n				\n				\n				\n				\n				\n				\n				\n				\n				\n				\n				\n				\n				\n			\n				\n				\n				\n				\n				William H. Arlt’s Flowers \n			\n				\n				\n				\n				\n				\n			\n				\n				\n				\n				\n				David Huffine Library Fair\n			\n				\n				\n				\n				\n				\n			\n				\n				\n				\n				\n				Florence Hubbard Overlook Mountain\n			\n				\n				\n				\n				\n				\n			\n				\n				\n				\n				\n				Konrad  Cramer Self Portrait\n			\n			\n				\n				\n				\n				\n				\n				\n				\n				\n				\n				\n\n\n\n\n\n\n\n\n\n\n\n\n\n\n\n\n\n\n\nGallery talk by Bruce Weber\non July 8\, 3 p.m.\n Admission: Free\nThe public is invited to “In Care of the Historical Society of Woodstock\,” which highlights the HSW’s significant collection of works on paper\, the recently completed conservation of William H. Arlt’s Flowers (by paper conservator Sarah Dove)\, and the conservation needs of pictures by Marianne Appel\, Judson Smith and Harry Gottlieb. As a result of the support of the NYSCA/GHNN Conservation Treatment Grant Program\, conservation has been completed on Arlt’s Flowers\, and paintings Hervey White in His Studio by Arnold Blanch and Landscape by Edmund B. Rolfe. These efforts are part of a long-range plan to care for works in need of conservation in the HSW’s fine art collection\, which consists of over 800 works. It is our hope that with the support of people in the community we will soon undertake the care of the pictures in the exhibition by Marianne Appel\, Judson Smith and Harry Gottlieb. \nThe exhibition\, curated by Bruce Weber with the assistance of Maria Yeye\, highlights three areas of the fine art collection: portraits of leading local individuals; townscapes\, village scenes\, landscapes; and the sociey’small but exquisite collection of still life. Among the works on view are self-portraits by Kurt Sluizer\, Manuel Bromberg\, Franklin Alexander\, Leslie Bender\, Robert Angeloch\, Sally Michel Avery\, March Avery and Dan Gelfand\, as well as likenesses by Judson Smith of artist Sam Wylie and illustrator Miska Petersham\, and Aline Fruhauf’s caricature of the author J. P. McEvoy. Outdoor scenes by Clarence Bolton\, Reeves Brace\, Wilna Hervey\, Doris Lee and Mary James\, and still lifes by Ernest Fiene\, Harry Gottlieb\, Georgina Klitgaard\, Mary D. Smith\, and Milton Glaser are also included. \nThe Historical Society of Woodstock will host an opening reception for the show from 3:00–5:00 pm on June 10th.\nRefreshments will be served\, and admission is free. There will be a talk about aspects of the exhibition and the need for conservation by art historian Bruce Weber at 3:30. Dr. Weber will also give a gallery talk on July 8 at 3 p.m. “In Care of the Historical Society of Woodstock” will be open to the public every Saturday and Sunday from 1:00 pm to 5:00 pm from June 10 through July 9. The Historical Society of Woodstock is located at 20 Comeau Drive in Woodstock. \n\n\n\n\n\n\n\n\n\n\n\n\n\n\n\n\n\n\n\n\n			\n				more about each artist
URL:https://historicalsocietyofwoodstock.org/event/woodstock-art-colony-works-on-paper/
LOCATION:Historical Society of Woodstock\, 20 Comeau Drive\, Woodstock\, NY\, 12498\, United States
CATEGORIES:2023
ATTACH;FMTTYPE=image/jpeg:https://historicalsocietyofwoodstock.org/wp-content/uploads/2023/06/WilliamArlt_Flowers.jpg
END:VEVENT
END:VCALENDAR